BEGIN:VCALENDAR
VERSION:2.0
PRODID:-//Schachfreunde Pfullingen e.V. - ECPv6.2.7//NONSGML v1.0//EN
CALSCALE:GREGORIAN
METHOD:PUBLISH
X-ORIGINAL-URL:https://schachfreunde-pfullingen.de
X-WR-CALDESC:Veranstaltungen für Schachfreunde Pfullingen e.V.
REFRESH-INTERVAL;VALUE=DURATION:PT1H
X-Robots-Tag:noindex
X-PUBLISHED-TTL:PT1H
BEGIN:VTIMEZONE
TZID:Europe/Berlin
BEGIN:DAYLIGHT
TZOFFSETFROM:+0100
TZOFFSETTO:+0200
TZNAME:CEST
DTSTART:20240331T010000
END:DAYLIGHT
BEGIN:STANDARD
TZOFFSETFROM:+0200
TZOFFSETTO:+0100
TZNAME:CET
DTSTART:20241027T010000
END:STANDARD
END:VTIMEZONE
BEGIN:VEVENT
DTSTART;TZID=Europe/Berlin:20240622T140000
DTEND;TZID=Europe/Berlin:20240622T170000
DTSTAMP:20260424T233334
CREATED:20240609T195056Z
LAST-MODIFIED:20240609T195056Z
UID:4842-1719064800-1719075600@schachfreunde-pfullingen.de
SUMMARY:Minigolfturnier auf der Minigolfanlage hinter dem Pfullinger Freibad
DESCRIPTION:
URL:https://schachfreunde-pfullingen.de/event/minigolfturnier-auf-der-minigolfanlage-hinter-dem-pfullinger-freibad/
END:VEVENT
END:VCALENDAR