BEGIN:VCALENDAR
VERSION:2.0
PRODID:-//Schachfreunde Pfullingen e.V. - ECPv6.2.7//NONSGML v1.0//EN
CALSCALE:GREGORIAN
METHOD:PUBLISH
X-ORIGINAL-URL:https://schachfreunde-pfullingen.de
X-WR-CALDESC:Veranstaltungen für Schachfreunde Pfullingen e.V.
REFRESH-INTERVAL;VALUE=DURATION:PT1H
X-Robots-Tag:noindex
X-PUBLISHED-TTL:PT1H
BEGIN:VTIMEZONE
TZID:Europe/Berlin
BEGIN:DAYLIGHT
TZOFFSETFROM:+0100
TZOFFSETTO:+0200
TZNAME:CEST
DTSTART:20250330T010000
END:DAYLIGHT
BEGIN:STANDARD
TZOFFSETFROM:+0200
TZOFFSETTO:+0100
TZNAME:CET
DTSTART:20251026T010000
END:STANDARD
END:VTIMEZONE
BEGIN:VEVENT
DTSTART;TZID=Europe/Berlin:20250209T090000
DTEND;TZID=Europe/Berlin:20250209T150000
DTSTAMP:20260421T185403
CREATED:20240904T133038Z
LAST-MODIFIED:20240904T133656Z
UID:4956-1739091600-1739113200@schachfreunde-pfullingen.de
SUMMARY:BK RT/TÜ: SG KK Hohentübingen 4 - SF Pfullingen 7
DESCRIPTION:
URL:https://schachfreunde-pfullingen.de/event/bk-rt-tue-sg-kk-hohentuebingen-4-sf-pfullingen-7/
LOCATION:SG KK Hohentübingen 1\, Hermann-Hepper-Halle\, Westbahnhofstraße 23\, 72070 Tübingen\, Deutschland
CATEGORIES:Mannschaftskämpfe
END:VEVENT
BEGIN:VEVENT
DTSTART;TZID=Europe/Berlin:20250209T090000
DTEND;TZID=Europe/Berlin:20250209T150000
DTSTAMP:20260421T185403
CREATED:20240904T133038Z
LAST-MODIFIED:20240904T133656Z
UID:4957-1739091600-1739113200@schachfreunde-pfullingen.de
SUMMARY:BL NF: SC Steinlach 1 - SF Pfullingen 3
DESCRIPTION:
URL:https://schachfreunde-pfullingen.de/event/bl-nf-sc-steinlach-1-sf-pfullingen-3/
LOCATION:SC Steinlach 1\, Vereinszimmer in der Mehrzweckhalle\, Schulstr. 3\, 72131 Ofterdingen\, Deutschland
CATEGORIES:Mannschaftskämpfe
END:VEVENT
BEGIN:VEVENT
DTSTART;TZID=Europe/Berlin:20250209T100000
DTEND;TZID=Europe/Berlin:20250209T160000
DTSTAMP:20260421T185403
CREATED:20240904T133038Z
LAST-MODIFIED:20240904T133656Z
UID:4955-1739095200-1739116800@schachfreunde-pfullingen.de
SUMMARY:VL WÜ: SF Pfullingen 1 - SV Ebersbach 1
DESCRIPTION:
URL:https://schachfreunde-pfullingen.de/event/vl-wue-sf-pfullingen-1-sv-ebersbach-1/
LOCATION:SF Pfullingen 1\, Mensa der Schloss-Schule Pfullingen\, Schloßstraße 24\, 72793 Pfullingen\, Deutschland
CATEGORIES:Mannschaftskämpfe
END:VEVENT
END:VCALENDAR