BEGIN:VCALENDAR
VERSION:2.0
PRODID:-//Schachfreunde Pfullingen e.V. - ECPv6.2.7//NONSGML v1.0//EN
CALSCALE:GREGORIAN
METHOD:PUBLISH
X-WR-CALNAME:Schachfreunde Pfullingen e.V.
X-ORIGINAL-URL:https://schachfreunde-pfullingen.de
X-WR-CALDESC:Veranstaltungen für Schachfreunde Pfullingen e.V.
REFRESH-INTERVAL;VALUE=DURATION:PT1H
X-Robots-Tag:noindex
X-PUBLISHED-TTL:PT1H
BEGIN:VTIMEZONE
TZID:Europe/Berlin
BEGIN:DAYLIGHT
TZOFFSETFROM:+0100
TZOFFSETTO:+0200
TZNAME:CEST
DTSTART:20260329T010000
END:DAYLIGHT
BEGIN:STANDARD
TZOFFSETFROM:+0200
TZOFFSETTO:+0100
TZNAME:CET
DTSTART:20261025T010000
END:STANDARD
END:VTIMEZONE
BEGIN:VEVENT
DTSTART;TZID=Europe/Berlin:20260419T090000
DTEND;TZID=Europe/Berlin:20260419T150000
DTSTAMP:20260423T111614
CREATED:20251108T201329Z
LAST-MODIFIED:20251108T201329Z
UID:5892-1776589200-1776610800@schachfreunde-pfullingen.de
SUMMARY:AK RT/TÜ: SF Pfullingen 5 - Rochade Metzingen 2
DESCRIPTION:
URL:https://schachfreunde-pfullingen.de/event/ak-rt-tue-sf-pfullingen-5-rochade-metzingen-2-2/
LOCATION:SF Pfullingen 1\, Mensa der Schloss-Schule Pfullingen\, Schloßstraße 24\, 72793 Pfullingen\, Deutschland
CATEGORIES:Mannschaftskämpfe
END:VEVENT
BEGIN:VEVENT
DTSTART;TZID=Europe/Berlin:20260419T090000
DTEND;TZID=Europe/Berlin:20260419T150000
DTSTAMP:20260423T111614
CREATED:20251108T201329Z
LAST-MODIFIED:20251108T201329Z
UID:5893-1776589200-1776610800@schachfreunde-pfullingen.de
SUMMARY:AK RT/TÜ: SF Pfullingen 4 - SG KK Hohentübingen 3
DESCRIPTION:
URL:https://schachfreunde-pfullingen.de/event/ak-rt-tue-sf-pfullingen-4-sg-kk-hohentuebingen-3/
LOCATION:SF Pfullingen 1\, Mensa der Schloss-Schule Pfullingen\, Schloßstraße 24\, 72793 Pfullingen\, Deutschland
CATEGORIES:Mannschaftskämpfe
END:VEVENT
BEGIN:VEVENT
DTSTART;TZID=Europe/Berlin:20260419T100000
DTEND;TZID=Europe/Berlin:20260419T160000
DTSTAMP:20260423T111614
CREATED:20251108T201329Z
LAST-MODIFIED:20251108T201329Z
UID:5894-1776592800-1776614400@schachfreunde-pfullingen.de
SUMMARY:LL NF: SV Urach 1 - SF Pfullingen 1
DESCRIPTION:
URL:https://schachfreunde-pfullingen.de/event/ll-nf-sv-urach-1-sf-pfullingen-1/
LOCATION:SV Urach 1\, Beginenhaus\, Graf-Eberhard-Platz 5\, 72574 Bad Urach\, Deutschland
CATEGORIES:Mannschaftskämpfe
END:VEVENT
BEGIN:VEVENT
DTSTART;TZID=Europe/Berlin:20260419T100000
DTEND;TZID=Europe/Berlin:20260419T160000
DTSTAMP:20260423T111614
CREATED:20251108T201329Z
LAST-MODIFIED:20251108T201329Z
UID:5895-1776592800-1776614400@schachfreunde-pfullingen.de
SUMMARY:LL NF: SK Freibauer Esslingen 1 - SF Pfullingen 2
DESCRIPTION:
URL:https://schachfreunde-pfullingen.de/event/ll-nf-sk-freibauer-esslingen-1-sf-pfullingen-2/
LOCATION:SK Freibauer Esslingen 1\, Schachklub Freibauer Esslingen e.V.\, Landolinsgasse 16\, 73728 Esslingen am Neckar\, Deutschland
CATEGORIES:Mannschaftskämpfe
END:VEVENT
END:VCALENDAR