BEGIN:VCALENDAR
VERSION:2.0
PRODID:-//Schachfreunde Pfullingen e.V. - ECPv6.2.7//NONSGML v1.0//EN
CALSCALE:GREGORIAN
METHOD:PUBLISH
X-ORIGINAL-URL:https://schachfreunde-pfullingen.de
X-WR-CALDESC:Veranstaltungen für Schachfreunde Pfullingen e.V.
REFRESH-INTERVAL;VALUE=DURATION:PT1H
X-Robots-Tag:noindex
X-PUBLISHED-TTL:PT1H
BEGIN:VTIMEZONE
TZID:Europe/Berlin
BEGIN:DAYLIGHT
TZOFFSETFROM:+0100
TZOFFSETTO:+0200
TZNAME:CEST
DTSTART:20240331T010000
END:DAYLIGHT
BEGIN:STANDARD
TZOFFSETFROM:+0200
TZOFFSETTO:+0100
TZNAME:CET
DTSTART:20241027T010000
END:STANDARD
END:VTIMEZONE
BEGIN:VEVENT
DTSTART;TZID=Europe/Berlin:20240503T193000
DTEND;TZID=Europe/Berlin:20240503T223000
DTSTAMP:20260424T203702
CREATED:20240129T165358Z
LAST-MODIFIED:20240129T165358Z
UID:4663-1714764600-1714775400@schachfreunde-pfullingen.de
SUMMARY:Maipokal Schnellschachmeisterschaft
DESCRIPTION:
URL:https://schachfreunde-pfullingen.de/event/maipokal-schnellschachmeisterschaft/
CATEGORIES:Erwachsene
END:VEVENT
BEGIN:VEVENT
DTSTART;TZID=Europe/Berlin:20240505T090000
DTEND;TZID=Europe/Berlin:20240505T150000
DTSTAMP:20260424T203702
CREATED:20230812T124137Z
LAST-MODIFIED:20230812T124137Z
UID:4003-1714899600-1714921200@schachfreunde-pfullingen.de
SUMMARY:SV Urach 2 - SF Pfullingen 3
DESCRIPTION:
URL:https://schachfreunde-pfullingen.de/event/sv-urach-2-sf-pfullingen-3/
LOCATION:SV Urach 1\, Beginenhaus\, Graf-Eberhard-Platz 5\, 72574 Bad Urach\, Deutschland
CATEGORIES:Mannschaftskämpfe
END:VEVENT
BEGIN:VEVENT
DTSTART;TZID=Europe/Berlin:20240517T180000
DTEND;TZID=Europe/Berlin:20240517T230000
DTSTAMP:20260424T203702
CREATED:20240512T055729Z
LAST-MODIFIED:20240512T055729Z
UID:4784-1715968800-1715986800@schachfreunde-pfullingen.de
SUMMARY:Beginn Schachopen Horber Pfingstgambit
DESCRIPTION:
URL:https://schachfreunde-pfullingen.de/event/beginn-schachopen-horber-pfingstgambit/
LOCATION:Horb\, Deutschland
END:VEVENT
BEGIN:VEVENT
DTSTART;TZID=Europe/Berlin:20240520T083000
DTEND;TZID=Europe/Berlin:20240520T200000
DTSTAMP:20260424T203702
CREATED:20240512T060113Z
LAST-MODIFIED:20240512T060113Z
UID:4788-1716193800-1716235200@schachfreunde-pfullingen.de
SUMMARY:Ende Schachopen Horber Pfingstgambit
DESCRIPTION:
URL:https://schachfreunde-pfullingen.de/event/ende-schachopen-horber-pfingstgambit/
END:VEVENT
END:VCALENDAR