BEGIN:VCALENDAR
VERSION:2.0
PRODID:-//Schachfreunde Pfullingen e.V. - ECPv6.2.7//NONSGML v1.0//EN
CALSCALE:GREGORIAN
METHOD:PUBLISH
X-ORIGINAL-URL:https://schachfreunde-pfullingen.de
X-WR-CALDESC:Veranstaltungen für Schachfreunde Pfullingen e.V.
REFRESH-INTERVAL;VALUE=DURATION:PT1H
X-Robots-Tag:noindex
X-PUBLISHED-TTL:PT1H
BEGIN:VTIMEZONE
TZID:Europe/Berlin
BEGIN:DAYLIGHT
TZOFFSETFROM:+0100
TZOFFSETTO:+0200
TZNAME:CEST
DTSTART:20240331T010000
END:DAYLIGHT
BEGIN:STANDARD
TZOFFSETFROM:+0200
TZOFFSETTO:+0100
TZNAME:CET
DTSTART:20241027T010000
END:STANDARD
END:VTIMEZONE
BEGIN:VEVENT
DTSTART;TZID=Europe/Berlin:20241201T090000
DTEND;TZID=Europe/Berlin:20241201T150000
DTSTAMP:20260426T031929
CREATED:20240904T132953Z
LAST-MODIFIED:20240904T133610Z
UID:4941-1733043600-1733065200@schachfreunde-pfullingen.de
SUMMARY:BK RT/TÜ: SC Steinlach 5 - SF Pfullingen 7
DESCRIPTION:
URL:https://schachfreunde-pfullingen.de/event/bk-rt-tue-sc-steinlach-5-sf-pfullingen-7/
LOCATION:SC Steinlach 1\, Vereinszimmer in der Mehrzweckhalle\, Schulstr. 3\, 72131 Ofterdingen\, Deutschland
CATEGORIES:Mannschaftskämpfe
END:VEVENT
BEGIN:VEVENT
DTSTART;TZID=Europe/Berlin:20241201T090000
DTEND;TZID=Europe/Berlin:20241201T150000
DTSTAMP:20260426T031929
CREATED:20240904T132953Z
LAST-MODIFIED:20240904T133610Z
UID:4942-1733043600-1733065200@schachfreunde-pfullingen.de
SUMMARY:BL NF: SV Urach 2 - SF Pfullingen 3
DESCRIPTION:
URL:https://schachfreunde-pfullingen.de/event/bl-nf-sv-urach-2-sf-pfullingen-3/
LOCATION:SV Urach 1\, Beginenhaus\, Graf-Eberhard-Platz 5\, 72574 Bad Urach\, Deutschland
CATEGORIES:Mannschaftskämpfe
END:VEVENT
BEGIN:VEVENT
DTSTART;TZID=Europe/Berlin:20241206T180000
DTEND;TZID=Europe/Berlin:20241206T193000
DTSTAMP:20260426T031929
CREATED:20240913T142138Z
LAST-MODIFIED:20240913T142138Z
UID:5084-1733508000-1733513400@schachfreunde-pfullingen.de
SUMMARY:Training
DESCRIPTION:
URL:https://schachfreunde-pfullingen.de/event/training-4/
CATEGORIES:Jugend
END:VEVENT
BEGIN:VEVENT
DTSTART;TZID=Europe/Berlin:20241208T100000
DTEND;TZID=Europe/Berlin:20241208T160000
DTSTAMP:20260426T031929
CREATED:20240904T132954Z
LAST-MODIFIED:20240904T133610Z
UID:4943-1733652000-1733673600@schachfreunde-pfullingen.de
SUMMARY:VL WÜ: SF Pfullingen 1 - SF Mengen 1
DESCRIPTION:
URL:https://schachfreunde-pfullingen.de/event/vl-wue-sf-pfullingen-1-sf-mengen-1/
LOCATION:SF Pfullingen 1\, Mensa der Schloss-Schule Pfullingen\, Schloßstraße 24\, 72793 Pfullingen\, Deutschland
CATEGORIES:Mannschaftskämpfe
END:VEVENT
BEGIN:VEVENT
DTSTART;TZID=Europe/Berlin:20241213T180000
DTEND;TZID=Europe/Berlin:20241213T184500
DTSTAMP:20260426T031929
CREATED:20240913T142139Z
LAST-MODIFIED:20240913T142208Z
UID:5085-1734112800-1734115500@schachfreunde-pfullingen.de
SUMMARY:Training
DESCRIPTION:
URL:https://schachfreunde-pfullingen.de/event/training-anfaenger/
CATEGORIES:Jugend
END:VEVENT
BEGIN:VEVENT
DTSTART;TZID=Europe/Berlin:20241213T193000
DTEND;TZID=Europe/Berlin:20241213T223000
DTSTAMP:20260426T031929
CREATED:20240129T165536Z
LAST-MODIFIED:20240129T165536Z
UID:4680-1734118200-1734129000@schachfreunde-pfullingen.de
SUMMARY:Vereinsmeisterschaft Runde 3
DESCRIPTION:
URL:https://schachfreunde-pfullingen.de/event/vereinsmeisterschaft-runde-3/
CATEGORIES:Erwachsene
END:VEVENT
BEGIN:VEVENT
DTSTART;TZID=Europe/Berlin:20241215T090000
DTEND;TZID=Europe/Berlin:20241215T150000
DTSTAMP:20260426T031929
CREATED:20240904T132954Z
LAST-MODIFIED:20240904T133610Z
UID:4944-1734253200-1734274800@schachfreunde-pfullingen.de
SUMMARY:AK RT/TÜ: SF Pfullingen 5 - SF Pfullingen 4
DESCRIPTION:
URL:https://schachfreunde-pfullingen.de/event/ak-rt-tue-sf-pfullingen-5-sf-pfullingen-4/
LOCATION:SF Pfullingen 1\, Mensa der Schloss-Schule Pfullingen\, Schloßstraße 24\, 72793 Pfullingen\, Deutschland
CATEGORIES:Mannschaftskämpfe
END:VEVENT
BEGIN:VEVENT
DTSTART;TZID=Europe/Berlin:20241215T090000
DTEND;TZID=Europe/Berlin:20241215T150000
DTSTAMP:20260426T031929
CREATED:20240904T133008Z
LAST-MODIFIED:20240904T133626Z
UID:4945-1734253200-1734274800@schachfreunde-pfullingen.de
SUMMARY:AK RT/TÜ: SF Pfullingen 6 - SV Tübingen 2
DESCRIPTION:
URL:https://schachfreunde-pfullingen.de/event/ak-rt-tue-sf-pfullingen-6-sv-tuebingen-2/
LOCATION:SF Pfullingen 1\, Mensa der Schloss-Schule Pfullingen\, Schloßstraße 24\, 72793 Pfullingen\, Deutschland
CATEGORIES:Mannschaftskämpfe
END:VEVENT
BEGIN:VEVENT
DTSTART;TZID=Europe/Berlin:20241215T100000
DTEND;TZID=Europe/Berlin:20241215T160000
DTSTAMP:20260426T031929
CREATED:20240904T133008Z
LAST-MODIFIED:20240904T133626Z
UID:4946-1734256800-1734278400@schachfreunde-pfullingen.de
SUMMARY:LL NF: SF Pfullingen 2 - SF Plochingen 1
DESCRIPTION:
URL:https://schachfreunde-pfullingen.de/event/ll-nf-sf-pfullingen-2-sf-plochingen-1/
LOCATION:SF Pfullingen 1\, Mensa der Schloss-Schule Pfullingen\, Schloßstraße 24\, 72793 Pfullingen\, Deutschland
CATEGORIES:Mannschaftskämpfe
END:VEVENT
BEGIN:VEVENT
DTSTART;TZID=Europe/Berlin:20241220T190000
DTEND;TZID=Europe/Berlin:20241220T220000
DTSTAMP:20260426T031929
CREATED:20240129T165536Z
LAST-MODIFIED:20240129T165536Z
UID:4681-1734721200-1734732000@schachfreunde-pfullingen.de
SUMMARY:Weihnachtsfeier
DESCRIPTION:
URL:https://schachfreunde-pfullingen.de/event/weihnachtsfeier-2/
CATEGORIES:Erwachsene
END:VEVENT
BEGIN:VEVENT
DTSTART;TZID=Europe/Berlin:20241230T190000
DTEND;TZID=Europe/Berlin:20241230T220000
DTSTAMP:20260426T031929
CREATED:20240129T165536Z
LAST-MODIFIED:20240129T165536Z
UID:4682-1735585200-1735596000@schachfreunde-pfullingen.de
SUMMARY:Silvesterturnier Online
DESCRIPTION:
URL:https://schachfreunde-pfullingen.de/event/silvesterturnier-online/
CATEGORIES:Erwachsene
END:VEVENT
END:VCALENDAR