BEGIN:VCALENDAR
VERSION:2.0
PRODID:-//Schachfreunde Pfullingen e.V. - ECPv6.2.7//NONSGML v1.0//EN
CALSCALE:GREGORIAN
METHOD:PUBLISH
X-WR-CALNAME:Schachfreunde Pfullingen e.V.
X-ORIGINAL-URL:https://schachfreunde-pfullingen.de
X-WR-CALDESC:Veranstaltungen für Schachfreunde Pfullingen e.V.
REFRESH-INTERVAL;VALUE=DURATION:PT1H
X-Robots-Tag:noindex
X-PUBLISHED-TTL:PT1H
BEGIN:VTIMEZONE
TZID:Europe/Berlin
BEGIN:DAYLIGHT
TZOFFSETFROM:+0100
TZOFFSETTO:+0200
TZNAME:CEST
DTSTART:20250330T010000
END:DAYLIGHT
BEGIN:STANDARD
TZOFFSETFROM:+0200
TZOFFSETTO:+0100
TZNAME:CET
DTSTART:20251026T010000
END:STANDARD
END:VTIMEZONE
BEGIN:VEVENT
DTSTART;TZID=Europe/Berlin:20250103T180000
DTEND;TZID=Europe/Berlin:20250103T210000
DTSTAMP:20260426T015018
CREATED:20240129T172251Z
LAST-MODIFIED:20241127T170435Z
UID:4686-1735927200-1735938000@schachfreunde-pfullingen.de
SUMMARY:Mutscheln im Schützenhaus Pfullingen
DESCRIPTION:
URL:https://schachfreunde-pfullingen.de/event/mutscheln-2/
LOCATION:Schützenhaus Pfullingen
CATEGORIES:Erwachsene
END:VEVENT
BEGIN:VEVENT
DTSTART;TZID=Europe/Berlin:20250112T100000
DTEND;TZID=Europe/Berlin:20250112T160000
DTSTAMP:20260426T015018
CREATED:20240904T133008Z
LAST-MODIFIED:20240904T133626Z
UID:4947-1736676000-1736697600@schachfreunde-pfullingen.de
SUMMARY:LL NF: SC Ostfildern 1 - SF Pfullingen 2
DESCRIPTION:
URL:https://schachfreunde-pfullingen.de/event/ll-nf-sc-ostfildern-1-sf-pfullingen-2/
LOCATION:SC Ostfildern 1\, An der Halle\, Esslinger Straße 26\, 73760 Ostfildern-Nellingen\, Deutschland
CATEGORIES:Mannschaftskämpfe
END:VEVENT
BEGIN:VEVENT
DTSTART;TZID=Europe/Berlin:20250119T090000
DTEND;TZID=Europe/Berlin:20250119T150000
DTSTAMP:20260426T015018
CREATED:20240904T133009Z
LAST-MODIFIED:20240904T133626Z
UID:4949-1737277200-1737298800@schachfreunde-pfullingen.de
SUMMARY:BL NF: SF Pfullingen 3 - SF Neckartenzlingen 1
DESCRIPTION:
URL:https://schachfreunde-pfullingen.de/event/bl-nf-sf-pfullingen-3-sf-neckartenzlingen-1/
LOCATION:SF Pfullingen 1\, Mensa der Schloss-Schule Pfullingen\, Schloßstraße 24\, 72793 Pfullingen\, Deutschland
CATEGORIES:Mannschaftskämpfe
END:VEVENT
BEGIN:VEVENT
DTSTART;TZID=Europe/Berlin:20250119T090000
DTEND;TZID=Europe/Berlin:20250119T150000
DTSTAMP:20260426T015018
CREATED:20240904T133023Z
LAST-MODIFIED:20240904T133640Z
UID:4950-1737277200-1737298800@schachfreunde-pfullingen.de
SUMMARY:BK RT/TÜ: SF Pfullingen 7 - SF Lichtenstein 2
DESCRIPTION:
URL:https://schachfreunde-pfullingen.de/event/bk-rt-tue-sf-pfullingen-7-sf-lichtenstein-2/
LOCATION:SF Pfullingen 1\, Mensa der Schloss-Schule Pfullingen\, Schloßstraße 24\, 72793 Pfullingen\, Deutschland
CATEGORIES:Mannschaftskämpfe
END:VEVENT
BEGIN:VEVENT
DTSTART;TZID=Europe/Berlin:20250119T100000
DTEND;TZID=Europe/Berlin:20250119T160000
DTSTAMP:20260426T015018
CREATED:20240904T133008Z
LAST-MODIFIED:20240904T133626Z
UID:4948-1737280800-1737302400@schachfreunde-pfullingen.de
SUMMARY:VL WÜ: SV Balingen 1 - SF Pfullingen 1
DESCRIPTION:
URL:https://schachfreunde-pfullingen.de/event/vl-wue-sv-balingen-1-sf-pfullingen-1/
LOCATION:SV Balingen 1\, Realschule\, Teckstraße 20\, 72336 Balingen\, Deutschland
CATEGORIES:Mannschaftskämpfe
END:VEVENT
BEGIN:VEVENT
DTSTART;TZID=Europe/Berlin:20250126T090000
DTEND;TZID=Europe/Berlin:20250126T150000
DTSTAMP:20260426T015018
CREATED:20240904T133023Z
LAST-MODIFIED:20240904T133640Z
UID:4951-1737882000-1737903600@schachfreunde-pfullingen.de
SUMMARY:AK RT/TÜ: SV Reutlingen 4 - SF Pfullingen 4
DESCRIPTION:
URL:https://schachfreunde-pfullingen.de/event/ak-rt-tue-sv-reutlingen-4-sf-pfullingen-4/
LOCATION:SV Reutlingen 1\, Schachverein Reutlingen\, Eisenbahnstr. 14\, 72770 Reutlingen\, Deutschland
CATEGORIES:Mannschaftskämpfe
END:VEVENT
BEGIN:VEVENT
DTSTART;TZID=Europe/Berlin:20250126T090000
DTEND;TZID=Europe/Berlin:20250126T150000
DTSTAMP:20260426T015018
CREATED:20240904T133024Z
LAST-MODIFIED:20240904T133640Z
UID:4952-1737882000-1737903600@schachfreunde-pfullingen.de
SUMMARY:AK RT/TÜ: Rochade Metzingen 2 - SF Pfullingen 6
DESCRIPTION:
URL:https://schachfreunde-pfullingen.de/event/ak-rt-tue-rochade-metzingen-2-sf-pfullingen-6/
LOCATION:Rochade Metzingen 1\, Rochade Metzingen e.V.\, Klosterhof 13\, 72555 Metzingen\, Deutschland
CATEGORIES:Mannschaftskämpfe
END:VEVENT
BEGIN:VEVENT
DTSTART;TZID=Europe/Berlin:20250126T090000
DTEND;TZID=Europe/Berlin:20250126T150000
DTSTAMP:20260426T015018
CREATED:20240904T133024Z
LAST-MODIFIED:20240904T133641Z
UID:4953-1737882000-1737903600@schachfreunde-pfullingen.de
SUMMARY:AK RT/TÜ: SV Tübingen 2 - SF Pfullingen 5
DESCRIPTION:
URL:https://schachfreunde-pfullingen.de/event/ak-rt-tue-sv-tuebingen-2-sf-pfullingen-5/
LOCATION:SV Tübingen 1\, Im Salzstadel\, Madergasse 7\, 72070 Tübingen\, Deutschland
CATEGORIES:Mannschaftskämpfe
END:VEVENT
END:VCALENDAR