BEGIN:VCALENDAR
VERSION:2.0
PRODID:-//Schachfreunde Pfullingen e.V. - ECPv6.2.7//NONSGML v1.0//EN
CALSCALE:GREGORIAN
METHOD:PUBLISH
X-WR-CALNAME:Schachfreunde Pfullingen e.V.
X-ORIGINAL-URL:https://schachfreunde-pfullingen.de
X-WR-CALDESC:Veranstaltungen für Schachfreunde Pfullingen e.V.
REFRESH-INTERVAL;VALUE=DURATION:PT1H
X-Robots-Tag:noindex
X-PUBLISHED-TTL:PT1H
BEGIN:VTIMEZONE
TZID:Europe/Berlin
BEGIN:DAYLIGHT
TZOFFSETFROM:+0100
TZOFFSETTO:+0200
TZNAME:CEST
DTSTART:20250330T010000
END:DAYLIGHT
BEGIN:STANDARD
TZOFFSETFROM:+0200
TZOFFSETTO:+0100
TZNAME:CET
DTSTART:20251026T010000
END:STANDARD
END:VTIMEZONE
BEGIN:VEVENT
DTSTART;TZID=Europe/Berlin:20250302T090000
DTEND;TZID=Europe/Berlin:20250302T150000
DTSTAMP:20260423T133105
CREATED:20240904T133053Z
LAST-MODIFIED:20240904T133710Z
UID:4961-1740906000-1740927600@schachfreunde-pfullingen.de
SUMMARY:AK RT/TÜ: SF Pfullingen 4 - SV Tübingen 2
DESCRIPTION:
URL:https://schachfreunde-pfullingen.de/event/ak-rt-tue-sf-pfullingen-4-sv-tuebingen-2/
LOCATION:SF Pfullingen 1\, Mensa der Schloss-Schule Pfullingen\, Schloßstraße 24\, 72793 Pfullingen\, Deutschland
CATEGORIES:Mannschaftskämpfe
END:VEVENT
BEGIN:VEVENT
DTSTART;TZID=Europe/Berlin:20250302T090000
DTEND;TZID=Europe/Berlin:20250302T150000
DTSTAMP:20260423T133105
CREATED:20240904T133054Z
LAST-MODIFIED:20240904T133710Z
UID:4962-1740906000-1740927600@schachfreunde-pfullingen.de
SUMMARY:AK RT/TÜ: SF Pfullingen 5 - Rochade Metzingen 2
DESCRIPTION:
URL:https://schachfreunde-pfullingen.de/event/ak-rt-tue-sf-pfullingen-5-rochade-metzingen-2/
LOCATION:SF Pfullingen 1\, Mensa der Schloss-Schule Pfullingen\, Schloßstraße 24\, 72793 Pfullingen\, Deutschland
CATEGORIES:Mannschaftskämpfe
END:VEVENT
BEGIN:VEVENT
DTSTART;TZID=Europe/Berlin:20250302T090000
DTEND;TZID=Europe/Berlin:20250302T150000
DTSTAMP:20260423T133105
CREATED:20240904T133054Z
LAST-MODIFIED:20240904T133710Z
UID:4963-1740906000-1740927600@schachfreunde-pfullingen.de
SUMMARY:AK RT/TÜ: SF Pfullingen 6 - SC Steinlach 4
DESCRIPTION:
URL:https://schachfreunde-pfullingen.de/event/ak-rt-tue-sf-pfullingen-6-sc-steinlach-4/
LOCATION:SF Pfullingen 1\, Mensa der Schloss-Schule Pfullingen\, Schloßstraße 24\, 72793 Pfullingen\, Deutschland
CATEGORIES:Mannschaftskämpfe
END:VEVENT
BEGIN:VEVENT
DTSTART;TZID=Europe/Berlin:20250309T000000
DTEND;TZID=Europe/Berlin:20250309T060000
DTSTAMP:20260423T133105
CREATED:20240904T133054Z
LAST-MODIFIED:20240904T133710Z
UID:4964-1741478400-1741500000@schachfreunde-pfullingen.de
SUMMARY:VL WÜ: SK Bebenhausen 2 - SF Pfullingen 1
DESCRIPTION:
URL:https://schachfreunde-pfullingen.de/event/vl-wue-sk-bebenhausen-2-sf-pfullingen-1/
LOCATION:SK Bebenhausen 1\, Begegnungsstätte Hirsch\, Hirschgasse 9\, 72070 Tübingen-Altstadt\, Deutschland
CATEGORIES:Mannschaftskämpfe
END:VEVENT
BEGIN:VEVENT
DTSTART;TZID=Europe/Berlin:20250316T090000
DTEND;TZID=Europe/Berlin:20250316T150000
DTSTAMP:20260423T133105
CREATED:20240904T133112Z
LAST-MODIFIED:20240904T133728Z
UID:4965-1742115600-1742137200@schachfreunde-pfullingen.de
SUMMARY:BL NF: SF Pfullingen 3 - Rochade Metzingen 1
DESCRIPTION:
URL:https://schachfreunde-pfullingen.de/event/bl-nf-sf-pfullingen-3-rochade-metzingen-1/
LOCATION:SF Pfullingen 1\, Mensa der Schloss-Schule Pfullingen\, Schloßstraße 24\, 72793 Pfullingen\, Deutschland
CATEGORIES:Mannschaftskämpfe
END:VEVENT
BEGIN:VEVENT
DTSTART;TZID=Europe/Berlin:20250323T000000
DTEND;TZID=Europe/Berlin:20250323T060000
DTSTAMP:20260423T133105
CREATED:20240904T133112Z
LAST-MODIFIED:20240904T133728Z
UID:4967-1742688000-1742709600@schachfreunde-pfullingen.de
SUMMARY:VL WÜ: SF Pfullingen 1 - SK Markdorf 1
DESCRIPTION:
URL:https://schachfreunde-pfullingen.de/event/vl-wue-sf-pfullingen-1-sk-markdorf-1/
LOCATION:SF Pfullingen 1\, Mensa der Schloss-Schule Pfullingen\, Schloßstraße 24\, 72793 Pfullingen\, Deutschland
CATEGORIES:Mannschaftskämpfe
END:VEVENT
BEGIN:VEVENT
DTSTART;TZID=Europe/Berlin:20250330T100000
DTEND;TZID=Europe/Berlin:20250330T160000
DTSTAMP:20260423T133105
CREATED:20240904T133112Z
LAST-MODIFIED:20240904T133728Z
UID:4968-1743328800-1743350400@schachfreunde-pfullingen.de
SUMMARY:LL NF: SC Kirchentellinsfurt 1 - SF Pfullingen 2
DESCRIPTION:
URL:https://schachfreunde-pfullingen.de/event/ll-nf-sc-kirchentellinsfurt-1-sf-pfullingen-2/
LOCATION:SC Kirchentellinsfurt 1\, Richard-Wolf-Halle\, Vereinsraum UG\, Neue Steige 25\, 72138 Kirchentellinsfurt\, Deutschland
CATEGORIES:Mannschaftskämpfe
END:VEVENT
END:VCALENDAR